BEGIN:VCALENDAR
VERSION:2.0
PRODID:-//Coastal Interpretive Center - ECPv6.3.1//NONSGML v1.0//EN
CALSCALE:GREGORIAN
METHOD:PUBLISH
X-WR-CALNAME:Coastal Interpretive Center
X-ORIGINAL-URL:https://interpretivecenter.org
X-WR-CALDESC:Events for Coastal Interpretive Center
REFRESH-INTERVAL;VALUE=DURATION:PT1H
X-Robots-Tag:noindex
X-PUBLISHED-TTL:PT1H
BEGIN:VTIMEZONE
TZID:America/Vancouver
BEGIN:DAYLIGHT
TZOFFSETFROM:-0800
TZOFFSETTO:-0700
TZNAME:PDT
DTSTART:20240310T100000
END:DAYLIGHT
BEGIN:STANDARD
TZOFFSETFROM:-0700
TZOFFSETTO:-0800
TZNAME:PST
DTSTART:20241103T090000
END:STANDARD
END:VTIMEZONE
BEGIN:VEVENT
DTSTART;TZID=America/Vancouver:20240209T150000
DTEND;TZID=America/Vancouver:20240209T163000
DTSTAMP:20240210T222320
CREATED:20231023T222410Z
LAST-MODIFIED:20231023T222440Z
UID:7624-1707490800-1707496200@interpretivecenter.org
SUMMARY:Guided Tour - February 9\, 2024
DESCRIPTION:What do you do on a rainy Friday afternoon in Ocean Shores? You visit the Coastal Interpretive Center\, of course! We now offer guided tours on Friday afternoons. We have hands-on activities for kids of all ages. View videos from our partners at NOAA’s Olympic Coast National Marine Sanctuary. Pilot a ship in stormy seas. And learn about area shipwrecks and the unique built-environment of Ocean Shores. Tours feature a behind the scenes look into our research on the natural and cultural history of Washington’s Pacific Coast. \nPre-registration required. \nCost:Participant: $10.00CIC Member: $5.00Senior (80+) FreeChild (under 8) Free \n\n\n	\n	Sale!\n	Guided Tour February 9\, 2024\n	$0.00 – $10.00\nSelect options
URL:https://interpretivecenter.org/event/guided-tour-february-9-2024/
LOCATION:Coastal Interpretive Center\, 1033 Catala Ave SE\, Ocean Shores\, Washington\, 98569
CATEGORIES:Tours
END:VEVENT
BEGIN:VEVENT
DTSTART;TZID=America/Vancouver:20240208T180000
DTEND;TZID=America/Vancouver:20240208T200000
DTSTAMP:20240210T222320
CREATED:20240115T222436Z
LAST-MODIFIED:20240115T222503Z
UID:8003-1707415200-1707422400@interpretivecenter.org
SUMMARY:Board Meeting
DESCRIPTION:
URL:https://interpretivecenter.org/event/board-meeting/
LOCATION:Ocean Shores Library
CATEGORIES:Meetings
END:VEVENT
END:VCALENDAR