BEGIN:VCALENDAR
VERSION:2.0
PRODID:-//Coastal Interpretive Center - ECPv6.3.1//NONSGML v1.0//EN
CALSCALE:GREGORIAN
METHOD:PUBLISH
X-ORIGINAL-URL:https://interpretivecenter.org
X-WR-CALDESC:Events for Coastal Interpretive Center
REFRESH-INTERVAL;VALUE=DURATION:PT1H
X-Robots-Tag:noindex
X-PUBLISHED-TTL:PT1H
BEGIN:VTIMEZONE
TZID:America/Vancouver
BEGIN:DAYLIGHT
TZOFFSETFROM:-0800
TZOFFSETTO:-0700
TZNAME:PDT
DTSTART:20240310T100000
END:DAYLIGHT
BEGIN:STANDARD
TZOFFSETFROM:-0700
TZOFFSETTO:-0800
TZNAME:PST
DTSTART:20241103T090000
END:STANDARD
END:VTIMEZONE
BEGIN:VEVENT
DTSTART;TZID=America/Vancouver:20240216T150000
DTEND;TZID=America/Vancouver:20240216T163000
DTSTAMP:20240210T202902
CREATED:20231023T222631Z
LAST-MODIFIED:20231023T222631Z
UID:7632-1708095600-1708101000@interpretivecenter.org
SUMMARY:Guided Tour - February 16\, 2024
DESCRIPTION:What do you do on a rainy Friday afternoon in Ocean Shores? You visit the Coastal Interpretive Center\, of course! We now offer guided tours on Friday afternoons. We have hands-on activities for kids of all ages. View videos from our partners at NOAA’s Olympic Coast National Marine Sanctuary. Pilot a ship in stormy seas. And learn about area shipwrecks and the unique built-environment of Ocean Shores. Tours feature a behind the scenes look into our research on the natural and cultural history of Washington’s Pacific Coast. \nPre-registration required. \nCost:\nParticipant: $10.00\nCIC Member: $5.00\nSenior (80+) Free\nChild (under 8) Free \n\n\n	\n	Sale!\n	Guided Tour February 16\, 2024\n	$0.00 – $10.00\nSelect options
URL:https://interpretivecenter.org/event/guided-tour-february-16-2024/
LOCATION:Coastal Interpretive Center\, 1033 Catala Ave SE\, Ocean Shores\, Washington\, 98569
CATEGORIES:Tours
END:VEVENT
BEGIN:VEVENT
DTSTART;TZID=America/Vancouver:20240223T150000
DTEND;TZID=America/Vancouver:20240223T163000
DTSTAMP:20240210T202902
CREATED:20231023T222819Z
LAST-MODIFIED:20231023T222819Z
UID:7639-1708700400-1708705800@interpretivecenter.org
SUMMARY:Guided Tour - February 23\, 2024
DESCRIPTION:What do you do on a rainy Friday afternoon in Ocean Shores? You visit the Coastal Interpretive Center\, of course! We now offer guided tours on Friday afternoons. We have hands-on activities for kids of all ages. View videos from our partners at NOAA’s Olympic Coast National Marine Sanctuary. Pilot a ship in stormy seas. And learn about area shipwrecks and the unique built-environment of Ocean Shores. Tours feature a behind the scenes look into our research on the natural and cultural history of Washington’s Pacific Coast. \nPre-registration required. \nCost:\nParticipant: $10.00\nCIC Member: $5.00\nSenior (80+) Free\nChild (under 8) Free \n\n\n	\n	Sale!\n	Guided Tour February 23\, 2024\n	$0.00 – $10.00\nSelect options
URL:https://interpretivecenter.org/event/guided-tour-february-23-2024/
LOCATION:Coastal Interpretive Center\, 1033 Catala Ave SE\, Ocean Shores\, Washington\, 98569
CATEGORIES:Tours
END:VEVENT
BEGIN:VEVENT
DTSTART;TZID=America/Vancouver:20240301T150000
DTEND;TZID=America/Vancouver:20240301T163000
DTSTAMP:20240210T202902
CREATED:20231023T223008Z
LAST-MODIFIED:20231023T223008Z
UID:7646-1709305200-1709310600@interpretivecenter.org
SUMMARY:Guided Tour - March 1\, 2024
DESCRIPTION:What do you do on a rainy Friday afternoon in Ocean Shores? You visit the Coastal Interpretive Center\, of course! We now offer guided tours on Friday afternoons. We have hands-on activities for kids of all ages. View videos from our partners at NOAA’s Olympic Coast National Marine Sanctuary. Pilot a ship in stormy seas. And learn about area shipwrecks and the unique built-environment of Ocean Shores. Tours feature a behind the scenes look into our research on the natural and cultural history of Washington’s Pacific Coast. \nPre-registration required. \nCost:Participant: $10.00CIC Member: $5.00Senior (80+) FreeChild (under 8) Free \n\n\n	\n	Sale!\n	Guided Tour March 1\, 2024\n	$0.00 – $10.00\nSelect options
URL:https://interpretivecenter.org/event/guided-tour-march-1-2024/
LOCATION:Coastal Interpretive Center\, 1033 Catala Ave SE\, Ocean Shores\, Washington\, 98569
CATEGORIES:Tours
END:VEVENT
BEGIN:VEVENT
DTSTART;TZID=America/Vancouver:20240308T150000
DTEND;TZID=America/Vancouver:20240308T163000
DTSTAMP:20240210T202902
CREATED:20231023T223153Z
LAST-MODIFIED:20231023T223153Z
UID:7653-1709910000-1709915400@interpretivecenter.org
SUMMARY:Guided Tour - March 8\, 2024
DESCRIPTION:What do you do on a rainy Friday afternoon in Ocean Shores? You visit the Coastal Interpretive Center\, of course! We now offer guided tours on Friday afternoons. We have hands-on activities for kids of all ages. View videos from our partners at NOAA’s Olympic Coast National Marine Sanctuary. Pilot a ship in stormy seas. And learn about area shipwrecks and the unique built-environment of Ocean Shores. Tours feature a behind the scenes look into our research on the natural and cultural history of Washington’s Pacific Coast. \nPre-registration required. \nCost:\nParticipant: $10.00\nCIC Member: $5.00\nSenior (80+) Free\nChild (under 8) Free \n\n\n	\n	Sale!\n	Guided Tour March 8\, 2024\n	$0.00 – $10.00\nSelect options
URL:https://interpretivecenter.org/event/guided-tour-march-8-2024/
LOCATION:Coastal Interpretive Center\, 1033 Catala Ave SE\, Ocean Shores\, Washington\, 98569
CATEGORIES:Tours
END:VEVENT
BEGIN:VEVENT
DTSTART;TZID=America/Vancouver:20240315T150000
DTEND;TZID=America/Vancouver:20240315T163000
DTSTAMP:20240210T202902
CREATED:20231023T223327Z
LAST-MODIFIED:20231023T223327Z
UID:7660-1710514800-1710520200@interpretivecenter.org
SUMMARY:Guided Tour - March 15\, 2024
DESCRIPTION:What do you do on a rainy Friday afternoon in Ocean Shores? You visit the Coastal Interpretive Center\, of course! We now offer guided tours on Friday afternoons. We have hands-on activities for kids of all ages. View videos from our partners at NOAA’s Olympic Coast National Marine Sanctuary. Pilot a ship in stormy seas. And learn about area shipwrecks and the unique built-environment of Ocean Shores. Tours feature a behind the scenes look into our research on the natural and cultural history of Washington’s Pacific Coast. \nPre-registration required. \nCost:\nParticipant: $10.00\nCIC Member: $5.00\nSenior (80+) Free\nChild (under 8) Free \n\n\n	\n	Sale!\n	Guided Tour March 15\, 2024\n	$0.00 – $10.00\nSelect options
URL:https://interpretivecenter.org/event/guided-tour-march-15-2024/
LOCATION:Coastal Interpretive Center\, 1033 Catala Ave SE\, Ocean Shores\, Washington\, 98569
CATEGORIES:Tours
END:VEVENT
BEGIN:VEVENT
DTSTART;TZID=America/Vancouver:20240322T150000
DTEND;TZID=America/Vancouver:20240322T163000
DTSTAMP:20240210T202902
CREATED:20231023T223516Z
LAST-MODIFIED:20231023T223516Z
UID:7667-1711119600-1711125000@interpretivecenter.org
SUMMARY:Guided Tour - March 22\, 2024
DESCRIPTION:What do you do on a rainy Friday afternoon in Ocean Shores? You visit the Coastal Interpretive Center\, of course! We now offer guided tours on Friday afternoons. We have hands-on activities for kids of all ages. View videos from our partners at NOAA’s Olympic Coast National Marine Sanctuary. Pilot a ship in stormy seas. And learn about area shipwrecks and the unique built-environment of Ocean Shores. Tours feature a behind the scenes look into our research on the natural and cultural history of Washington’s Pacific Coast. \nPre-registration required. \nCost:\nParticipant: $10.00\nCIC Member: $5.00\nSenior (80+) Free\nChild (under 8) Free \n\n\n	\n	Sale!\n	Guided Tour March 22\, 2024\n	$0.00 – $10.00\nSelect options
URL:https://interpretivecenter.org/event/guided-tour-march-22-2024/
LOCATION:Coastal Interpretive Center\, 1033 Catala Ave SE\, Ocean Shores\, Washington\, 98569
CATEGORIES:Tours
END:VEVENT
BEGIN:VEVENT
DTSTART;TZID=America/Vancouver:20240329T150000
DTEND;TZID=America/Vancouver:20240329T163000
DTSTAMP:20240210T202902
CREATED:20231023T223706Z
LAST-MODIFIED:20231023T223706Z
UID:7674-1711724400-1711729800@interpretivecenter.org
SUMMARY:Guided Tour - March 29\, 2024
DESCRIPTION:What do you do on a rainy Friday afternoon in Ocean Shores? You visit the Coastal Interpretive Center\, of course! We now offer guided tours on Friday afternoons. We have hands-on activities for kids of all ages. View videos from our partners at NOAA’s Olympic Coast National Marine Sanctuary. Pilot a ship in stormy seas. And learn about area shipwrecks and the unique built-environment of Ocean Shores. Tours feature a behind the scenes look into our research on the natural and cultural history of Washington’s Pacific Coast. \nPre-registration required. \nCost:Participant: $10.00CIC Member: $5.00Senior (80+) FreeChild (under 8) Free \n\n\n	\n	Sale!\n	Guided Tour March 29\, 2024\n	$0.00 – $10.00\nSelect options
URL:https://interpretivecenter.org/event/guided-tour-march-29-2024/
LOCATION:Coastal Interpretive Center\, 1033 Catala Ave SE\, Ocean Shores\, Washington\, 98569
CATEGORIES:Tours
END:VEVENT
BEGIN:VEVENT
DTSTART;TZID=America/Vancouver:20240405T150000
DTEND;TZID=America/Vancouver:20240405T163000
DTSTAMP:20240210T202902
CREATED:20231023T223858Z
LAST-MODIFIED:20231023T223858Z
UID:7681-1712329200-1712334600@interpretivecenter.org
SUMMARY:Guided Tour - April 5\, 2024
DESCRIPTION:What do you do on a rainy Friday afternoon in Ocean Shores? You visit the Coastal Interpretive Center\, of course! We now offer guided tours on Friday afternoons. We have hands-on activities for kids of all ages. View videos from our partners at NOAA’s Olympic Coast National Marine Sanctuary. Pilot a ship in stormy seas. And learn about area shipwrecks and the unique built-environment of Ocean Shores. Tours feature a behind the scenes look into our research on the natural and cultural history of Washington’s Pacific Coast. \nPre-registration required. \nCost:\nParticipant: $10.00\nCIC Member: $5.00\nSenior (80+) Free\nChild (under 8) Free \n\n\n	\n	Sale!\n	Guided Tour April 5\, 2024\n	$0.00 – $10.00\nSelect options
URL:https://interpretivecenter.org/event/guided-tour-april-5-2024/
LOCATION:Coastal Interpretive Center\, 1033 Catala Ave SE\, Ocean Shores\, Washington\, 98569
CATEGORIES:Tours
END:VEVENT
BEGIN:VEVENT
DTSTART;TZID=America/Vancouver:20240412T150000
DTEND;TZID=America/Vancouver:20240412T163000
DTSTAMP:20240210T202902
CREATED:20231023T224041Z
LAST-MODIFIED:20231023T224041Z
UID:7688-1712934000-1712939400@interpretivecenter.org
SUMMARY:Guided Tour - April 12\, 2024
DESCRIPTION:What do you do on a rainy Friday afternoon in Ocean Shores? You visit the Coastal Interpretive Center\, of course! We now offer guided tours on Friday afternoons. We have hands-on activities for kids of all ages. View videos from our partners at NOAA’s Olympic Coast National Marine Sanctuary. Pilot a ship in stormy seas. And learn about area shipwrecks and the unique built-environment of Ocean Shores. Tours feature a behind the scenes look into our research on the natural and cultural history of Washington’s Pacific Coast. \nPre-registration required. \nCost:Participant: $10.00CIC Member: $5.00Senior (80+) FreeChild (under 8) Free \n\n\n	\n	Sale!\n	Guided Tour April 12\, 2024\n	$0.00 – $10.00\nSelect options
URL:https://interpretivecenter.org/event/guided-tour-april-12-2024/
LOCATION:Coastal Interpretive Center\, 1033 Catala Ave SE\, Ocean Shores\, Washington\, 98569
CATEGORIES:Tours
END:VEVENT
BEGIN:VEVENT
DTSTART;TZID=America/Vancouver:20240419T150000
DTEND;TZID=America/Vancouver:20240419T163000
DTSTAMP:20240210T202902
CREATED:20231023T224222Z
LAST-MODIFIED:20231023T224222Z
UID:7695-1713538800-1713544200@interpretivecenter.org
SUMMARY:Guided Tour - April 19\, 2024
DESCRIPTION:What do you do on a rainy Friday afternoon in Ocean Shores? You visit the Coastal Interpretive Center\, of course! We now offer guided tours on Friday afternoons. We have hands-on activities for kids of all ages. View videos from our partners at NOAA’s Olympic Coast National Marine Sanctuary. Pilot a ship in stormy seas. And learn about area shipwrecks and the unique built-environment of Ocean Shores. Tours feature a behind the scenes look into our research on the natural and cultural history of Washington’s Pacific Coast. \nPre-registration required. \nCost:\nParticipant: $10.00\nCIC Member: $5.00\nSenior (80+) Free\nChild (under 8) Free \n\n\n	\n	Sale!\n	Guided Tour April 19\, 2024\n	$0.00 – $10.00\nSelect options
URL:https://interpretivecenter.org/event/guided-tour-april-19-2024/
LOCATION:Coastal Interpretive Center\, 1033 Catala Ave SE\, Ocean Shores\, Washington\, 98569
CATEGORIES:Tours
END:VEVENT
BEGIN:VEVENT
DTSTART;TZID=America/Vancouver:20240426T150000
DTEND;TZID=America/Vancouver:20240426T163000
DTSTAMP:20240210T202903
CREATED:20231023T224404Z
LAST-MODIFIED:20231023T224404Z
UID:7702-1714143600-1714149000@interpretivecenter.org
SUMMARY:Guided Tour - April 26\, 2024
DESCRIPTION:What do you do on a rainy Friday afternoon in Ocean Shores? You visit the Coastal Interpretive Center\, of course! We now offer guided tours on Friday afternoons. We have hands-on activities for kids of all ages. View videos from our partners at NOAA’s Olympic Coast National Marine Sanctuary. Pilot a ship in stormy seas. And learn about area shipwrecks and the unique built-environment of Ocean Shores. Tours feature a behind the scenes look into our research on the natural and cultural history of Washington’s Pacific Coast. \nPre-registration required. \nCost:\nParticipant: $10.00\nCIC Member: $5.00\nSenior (80+) Free\nChild (under 8) Free \n\n\n	\n	Sale!\n	Guided Tour April 26\, 2024\n	$0.00 – $10.00\nSelect options
URL:https://interpretivecenter.org/event/guided-tour-april-26-2024/
LOCATION:Coastal Interpretive Center\, 1033 Catala Ave SE\, Ocean Shores\, Washington\, 98569
CATEGORIES:Tours
END:VEVENT
END:VCALENDAR