BEGIN:VCALENDAR
VERSION:2.0
PRODID:-//Coastal Interpretive Center - ECPv6.3.1//NONSGML v1.0//EN
CALSCALE:GREGORIAN
METHOD:PUBLISH
X-ORIGINAL-URL:https://interpretivecenter.org
X-WR-CALDESC:Events for Coastal Interpretive Center
REFRESH-INTERVAL;VALUE=DURATION:PT1H
X-Robots-Tag:noindex
X-PUBLISHED-TTL:PT1H
BEGIN:VTIMEZONE
TZID:America/Vancouver
BEGIN:DAYLIGHT
TZOFFSETFROM:-0800
TZOFFSETTO:-0700
TZNAME:PDT
DTSTART:20240310T100000
END:DAYLIGHT
BEGIN:STANDARD
TZOFFSETFROM:-0700
TZOFFSETTO:-0800
TZNAME:PST
DTSTART:20241103T090000
END:STANDARD
END:VTIMEZONE
BEGIN:VEVENT
DTSTART;TZID=America/Vancouver:20240314T180000
DTEND;TZID=America/Vancouver:20240314T200000
DTSTAMP:20240210T222940
CREATED:20240115T222602Z
LAST-MODIFIED:20240115T222602Z
UID:8006-1710439200-1710446400@interpretivecenter.org
SUMMARY:Board Meeting
DESCRIPTION:
URL:https://interpretivecenter.org/event/board-meeting-2/
LOCATION:Ocean Shores Library
CATEGORIES:Meetings
END:VEVENT
BEGIN:VEVENT
DTSTART;TZID=America/Vancouver:20240411T180000
DTEND;TZID=America/Vancouver:20240411T200000
DTSTAMP:20240210T222940
CREATED:20240115T222649Z
LAST-MODIFIED:20240115T222649Z
UID:8008-1712858400-1712865600@interpretivecenter.org
SUMMARY:Board Meeting
DESCRIPTION:
URL:https://interpretivecenter.org/event/board-meeting-3/
LOCATION:Ocean Shores Library
CATEGORIES:Meetings
END:VEVENT
BEGIN:VEVENT
DTSTART;TZID=America/Vancouver:20240509T180000
DTEND;TZID=America/Vancouver:20240509T200000
DTSTAMP:20240210T222940
CREATED:20240115T222740Z
LAST-MODIFIED:20240115T222740Z
UID:8010-1715277600-1715284800@interpretivecenter.org
SUMMARY:Board Meeting
DESCRIPTION:
URL:https://interpretivecenter.org/event/board-meeting-4/
LOCATION:Ocean Shores Library
CATEGORIES:Meetings
END:VEVENT
BEGIN:VEVENT
DTSTART;TZID=America/Vancouver:20240613T180000
DTEND;TZID=America/Vancouver:20240613T200000
DTSTAMP:20240210T222940
CREATED:20240115T222857Z
LAST-MODIFIED:20240115T222857Z
UID:8012-1718301600-1718308800@interpretivecenter.org
SUMMARY:Board Meeting
DESCRIPTION:
URL:https://interpretivecenter.org/event/board-meeting-5/
LOCATION:Ocean Shores Library
CATEGORIES:Meetings
END:VEVENT
END:VCALENDAR