BEGIN:VCALENDAR
VERSION:2.0
PRODID:-//Coastal Interpretive Center - ECPv6.3.1//NONSGML v1.0//EN
CALSCALE:GREGORIAN
METHOD:PUBLISH
X-WR-CALNAME:Coastal Interpretive Center
X-ORIGINAL-URL:https://interpretivecenter.org
X-WR-CALDESC:Events for Coastal Interpretive Center
REFRESH-INTERVAL;VALUE=DURATION:PT1H
X-Robots-Tag:noindex
X-PUBLISHED-TTL:PT1H
BEGIN:VTIMEZONE
TZID:America/Vancouver
BEGIN:DAYLIGHT
TZOFFSETFROM:-0800
TZOFFSETTO:-0700
TZNAME:PDT
DTSTART:20240310T100000
END:DAYLIGHT
BEGIN:STANDARD
TZOFFSETFROM:-0700
TZOFFSETTO:-0800
TZNAME:PST
DTSTART:20241103T090000
END:STANDARD
END:VTIMEZONE
BEGIN:VEVENT
DTSTART;TZID=America/Vancouver:20240216T190000
DTEND;TZID=America/Vancouver:20240216T210000
DTSTAMP:20240210T222508
CREATED:20231005T031542Z
LAST-MODIFIED:20240122T233213Z
UID:7445-1708110000-1708117200@interpretivecenter.org
SUMMARY:Glimpses Lecture: Liz Schotmann\, Pacific Northwest Regional Manager of the Surfrider Foundation
DESCRIPTION:Title: “Plastics and Its Impacts to the Environment” \nBackground: Liz Schotmann\, Pacific Northwest Regional Manager of the Surfrider Foundation\, will lead a presentation on plastics and its impacts to the environment and human health. The lecture will be followed by an interactive roundtable discussion about reducing plastic use in our households.  \nThe 2023-2024 Glimpses Lecture Series is held in person on the third Thursday or Friday of each month from October through March at the Ocean Shores Lions Club from 7-9 pm. Cost of admission is $10/person to be paid at the door. Join us in learning about the natural and cultural history of Washington’s Pacific Coast!
URL:https://interpretivecenter.org/event/glimpses-lecture-liz-schotmann-pacific-northwest-regional-manager-of-the-surfrider-foundation/
LOCATION:Lions Club
CATEGORIES:Glimpses Lecture Series
END:VEVENT
BEGIN:VEVENT
DTSTART;TZID=America/Vancouver:20240322T190000
DTEND;TZID=America/Vancouver:20240322T210000
DTSTAMP:20240210T222508
CREATED:20231005T031725Z
LAST-MODIFIED:20231005T031725Z
UID:7447-1711134000-1711141200@interpretivecenter.org
SUMMARY:Glimpses Lecture: Scott Harris\, Human Wildlife Interactions
DESCRIPTION:Title: “‘Human Wildlife Dimensions” \nBiography: Scott is a Wildlife Biologist with the Washington Department of Fish and Wildlife with years of experience navigating interactions between people and wildlife. \nThe 2023-2024 Glimpses Lecture Series is held in person on the third Thursday or Friday of each month from October through March at the Ocean Shores Lions Club from 7-9 pm. Cost of admission is $10/person to be paid at the door. Join us in learning about the natural and cultural history of Washington’s Pacific Coast!
URL:https://interpretivecenter.org/event/glimpses-lecture-scott-harris-human-wildlife-interactions/
LOCATION:Lions Club
CATEGORIES:Glimpses Lecture Series
END:VEVENT
END:VCALENDAR