BEGIN:VCALENDAR
VERSION:2.0
PRODID:-//Coastal Interpretive Center - ECPv6.3.1//NONSGML v1.0//EN
CALSCALE:GREGORIAN
METHOD:PUBLISH
X-WR-CALNAME:Coastal Interpretive Center
X-ORIGINAL-URL:https://interpretivecenter.org
X-WR-CALDESC:Events for Coastal Interpretive Center
REFRESH-INTERVAL;VALUE=DURATION:PT1H
X-Robots-Tag:noindex
X-PUBLISHED-TTL:PT1H
BEGIN:VTIMEZONE
TZID:America/Vancouver
BEGIN:DAYLIGHT
TZOFFSETFROM:-0800
TZOFFSETTO:-0700
TZNAME:PDT
DTSTART:20240310T100000
END:DAYLIGHT
BEGIN:STANDARD
TZOFFSETFROM:-0700
TZOFFSETTO:-0800
TZNAME:PST
DTSTART:20241103T090000
END:STANDARD
END:VTIMEZONE
BEGIN:VEVENT
DTSTART;TZID=America/Vancouver:20240306T180000
DTEND;TZID=America/Vancouver:20240306T200000
DTSTAMP:20240210T200548
CREATED:20231219T202123Z
LAST-MODIFIED:20231219T202123Z
UID:7973-1709748000-1709755200@interpretivecenter.org
SUMMARY:Plant ID Class
DESCRIPTION:The Coastal Interpretive Center will be offering a 6-week plant identification class beginning on Wednesday March 6.  The two-hour class will be held at the Ocean Shores Library conference room from 6:00-8:00 pm and run for six consecutive Wednesday’s to April 10.   \nParticipants will learn key terms and characteristics of native plants that occur along the coast and in our forests of Western Washington\, along with information about edible and poisonous plants\, noxious weeds and native plant landscaping. An optional field trip will take place following the last class to apply the skills learned in the class.  \nThe class will be taught by CIC board member Bruce Rittenhouse\, who has degrees in Botany and Plant Ecology.  \nCost of the class is $50 and is limited to 25 participants. The $50 fee covers all six classes\, and all proceeds go to support the Coastal Interpretive Center.  \nClick here to sign up
URL:https://interpretivecenter.org/event/plant-id-class/
LOCATION:Ocean Shores Library
CATEGORIES:Special Events
END:VEVENT
END:VCALENDAR